Workbook

Sheet Tabla Maestra
A1: Almacenaje | B1: Franquicia | C1: Minimo | D1: Entrada | E1: Salida | F1: Total Días | G1: CW Fracciones | H1: 1º Tramo | I1: Hasta 7 dias | J1: Total 1º Tramo | K1: 2º Tramo | L1: Mas 7 Dias | M1: Total 2º Tramo | N1: Total | P1: Import | Q1: Fecha Inicial | R1: 45658 | S1: 0
A2: General Cargo Storage | B2: =IF(WEEKDAY(E2,2)=1,4,3) -> 3 | C2: =IF('01-Carga General'!C6="Export",R7,Q7) -> 55.13 | D2: ='01-Carga General'!C4 -> 46044 | E2: ='01-Carga General'!C5 -> 46049 | F2: =IF(ROUNDUP((E2-D2)+1,0)-B2<=0,0,ROUNDUP((E2-D2)+1,0)) -> 6 | G2: =ROUNDUP('01-Carga General'!C8/100,0) -> 7 | H2: =IF(F2<=0,0,IF(ROUNDUP((E2-D2)+1,0)>=7,7,ROUNDUP((E2-D2)+1,0))) -> 6 | I2: =IF('01-Carga General'!C6="Export",R6,Q6) -> 13.02 | J2: =G2*H2*I2 -> 546.84 | K2: =IF(F2<=0,0,IF(ROUNDUP((E2-D2)+1,0)>7,ROUNDUP((E2-D2)+1,0)-7,0)) -> 0 | L2: =IF('01-Carga General'!C6="Export",R8,Q8) -> 30.43 | M2: =G2*K2*L2 -> 0 | N2: =IF(F2=0,0,IF(J2+M2<=C2,C2,J2+M2)) -> 546.84 | P2: Export | Q2: Fecha Fin | R2: 46387 | S2: 0.99930556
A3: Almacenaje | B3: Franquicia | C3: Minimo | D3: Entrada | E3: Salida | F3: Total Días | G3: CW Fracciones | H3: 1º Tramo | I3: Hasta 5 dias | L3: Mas 5 Dias
A4: Cool Storage Room | B4: 2 | C4: =IF('02-Camara Frigorifica'!C6="Export",R13,Q13) -> 59.33 | D4: ='02-Camara Frigorifica'!C4 -> 46029 | E4: ='02-Camara Frigorifica'!C5 -> 46031 | F4: =IF(ROUNDUP(((E4-D4)+1),0)-B4<=0,0,ROUNDUP((E4-D4)+1,0)) -> 3 | G4: =ROUNDUP('02-Camara Frigorifica'!C8/100,0) -> 140 | H4: =IF(F4<=0,0,IF(ROUNDUP((E4-D4)+1,0)>=5,5,ROUNDUP((E4-D4)+1,0))) -> 3 | I4: =IF('02-Camara Frigorifica'!C6="Export",R12,Q12) -> 27.38 | J4: =G4*H4*I4 -> 11499.6 | K4: =IF(F4<=0,0,IF(ROUNDUP((E4-D4)+1,0)>5,ROUNDUP((E4-D4)+1,0)-5,0)) -> 0 | L4: =IF('02-Camara Frigorifica'!C6="Export",R14,Q14) -> 38.83 | M4: =G4*K4*L4 -> 0 | N4: =IF(F4=0,0,IF(J4+M4<=C4,C4,J4+M4)) -> 11499.6 | P4: Tarifas General Cargo Storage
A5: Almacenaje | B5: Franquicia | C5: Minimo | D5: Entrada | E5: Salida | F5: Total Días | G5: CW Fracciones | H5: 1º Tramo | I5: Hasta 5 dias | Q5: Import | R5: Export
A6: Avi Storage Room | B6: 12 | C6: =IF('03-Animales Vivos'!C6="Export",R19,Q19) -> 55.14 | D6: ='03-Animales Vivos'!C4+'03-Animales Vivos'!D4 -> 46023 | E6: ='03-Animales Vivos'!C5+'03-Animales Vivos'!D5 -> 46023 | F6: =IF(ROUNDUP(((E6-D6)*24),0)-B6<=0,0,ROUNDUP(E6-D6,0)) -> 0 | G6: =ROUNDUP('03-Animales Vivos'!C8/100,0) -> 1 | H6: =F6 -> 0 | I6: =IF('03-Animales Vivos'!C6="Export",R18,Q18) -> 28.37 | J6: =G6*H6*I6 -> 0 | N6: =IF(F6=0,0,IF(J6+M6<=C6,C6,J6+M6)) -> 0 | P6: Hasta 7 días (€/100kg) | Q6: 13.26 | R6: 13.02
A7: Almacenaje | B7: Franquicia | C7: Dia/AWB | D7: Entrada | E7: Salida | F7: Total Días | G7: Kilos | I7: Hasta 5 dias | L7: Mas 5 Dias | P7: Mínimo (€) | Q7: 56.16 | R7: 55.13
A8: Special Storage Room | B8: 0 | C8: =IF('04-Mercancias Especiales'!C6="Export",R24,Q24) -> 77.97 | D8: ='04-Mercancias Especiales'!C4 -> 46023 | E8: ='04-Mercancias Especiales'!C5 -> 46023 | F8: =IF(ROUNDUP(((E8-D8)+1),0)-B8<=0,0,ROUNDUP((E8-D8)+1,0)) -> 1 | G8: ='04-Mercancias Especiales'!C8 -> 1 | H8: =IF(F8<=0,0,IF(ROUNDUP((E8-D8)+1,0)>=5,5,ROUNDUP((E8-D8)+1,0))) -> 1 | I8: =IF('04-Mercancias Especiales'!C6="Export",R23,Q23) -> 1.15 | J8: =IF(G8*H8*I8<C8*H8,C8*H8,G8*H8*I8) -> 77.97 | K8: =IF(F8<=0,0,IF(ROUNDUP((E8-D8)+1,0)>5,ROUNDUP((E8-D8)+1,0)-5,0)) -> 0 | L8: =IF('04-Mercancias Especiales'!C6="Export",R25,Q25) -> 1.76 | M8: =IF(G8*K8*L8<C8*K8,C8*K8,G8*K8*L8) -> 0 | N8: =IF(F8=0,0,IF(J8+M8<=C8,C8,J8+M8)) -> 77.97 | P8: Más de 7 días (€/100kg) | Q8: 31 | R8: 30.43
A9: Almacenaje | B9: Franquicia | C9: Dia/AWB | D9: Entrada | E9: Salida | F9: Total Días | G9: Kilos
A10: VUN Storage Room | B10: 0 | C10: =IF('05-Mercancias Vulnerables'!C6="Export",R30,Q30) -> 86.63 | D10: ='05-Mercancias Vulnerables'!C4 -> 46023 | E10: ='05-Mercancias Vulnerables'!C5 -> 46023 | F10: =IF(ROUNDUP(((E10-D10)+1),0)-B10<=0,0,ROUNDUP((E10-D10)+1,0)) -> 1 | G10: ='05-Mercancias Vulnerables'!C8 -> 1 | H10: =F10 -> 1 | I10: =IF('05-Mercancias Vulnerables'!C6="Export",R29,Q29) -> 0.19 | J10: =IF(G10*H10*I10<C10*H10,C10*H10,G10*H10*I10) -> 86.63 | N10: =IF(F10=0,0,IF(J10+M10<=C10,C10,J10+M10)) -> 86.63 | P10: Tarifas Cámara Frigorífica
A11: Almacenaje | B11: Franquicia | C11: Minimo | D11: Entrada | E11: Salida | F11: Total Días | G11: CW Fracciones | H11: 1º Tramo | I11: Hasta 5 dias | J11: Total 1º Tramo | K11: 2º Tramo | L11: Mas 5 Dias | M11: Total 2º Tramo | Q11: Import | R11: Export
A12: DGR Storage (With DGD) | B12: 2 | C12: =IF('06-Mercancia Peligrosa(Con DGD)'!C6="Export",R35,Q35) -> 93.46 | D12: ='06-Mercancia Peligrosa(Con DGD)'!C4 -> 46023 | E12: ='06-Mercancia Peligrosa(Con DGD)'!C5 -> 46023 | F12: =IF(ROUNDUP(((E12-D12)+1),0)-B12<=0,0,ROUNDUP((E12-D12)+1,0)) -> 0 | G12: =ROUNDUP('06-Mercancia Peligrosa(Con DGD)'!C8/100,0) -> 1 | H12: =IF(F12<=0,0,IF(ROUNDUP((E12-D12)+1,0)>=5,5,ROUNDUP((E12-D12)+1,0))) -> 0 | I12: =IF('06-Mercancia Peligrosa(Con DGD)'!C6="Export",R34,Q34) -> 20.29 | J12: =G12*H12*I12 -> 0 | K12: =IF(F12<=0,0,IF(ROUNDUP((E12-D12)+1,0)>5,ROUNDUP((E12-D12)+1,0)-5,0)) -> 0 | L12: =IF('06-Mercancia Peligrosa(Con DGD)'!C6="Export",R36,Q36) -> 36.26 | M12: =G12*K12*L12 -> 0 | N12: =IF(F12=0,0,IF(J12+M12<=C12,C12,J12+M12)) -> 0 | P12: Hasta 5 días (€/100kg) | Q12: 27.38 | R12: 26.88
A13: Almacenaje | B13: Franquicia | C13: Minimo | D13: Entrada | E13: Salida | F13: Total Días | G13: CW Fracciones | H13: 1º Tramo | I13: Hasta 5 dias | J13: Total 1º Tramo | K13: 2º Tramo | L13: Mas 5 Dias | M13: Total 2º Tramo | P13: Mínimo (€) | Q13: 59.33 | R13: 58.28
A14: DGR Storage (Without DGD) | B14: 2 | C14: =IF('06-Mercancia Peligrosa(Sin DGD)'!C6="Export",R41,Q41) -> 68.62 | D14: ='06-Mercancia Peligrosa(Sin DGD)'!C4 -> 46023 | E14: ='06-Mercancia Peligrosa(Sin DGD)'!C5 -> 46025 | F14: =IF(ROUNDUP(((E14-D14)+1),0)-B14<=0,0,ROUNDUP((E14-D14)+1,0)) -> 3 | G14: =ROUNDUP('06-Mercancia Peligrosa(Sin DGD)'!C8/100,0) -> 1 | H14: =IF(F14<=0,0,IF(ROUNDUP((E14-D14)+1,0)>=5,5,ROUNDUP((E14-D14)+1,0))) -> 3 | I14: =IF('06-Mercancia Peligrosa(Sin DGD)'!C6="Export",R40,Q40) -> 14.97 | J14: =G14*H14*I14 -> 44.91 | K14: =IF(F14<=0,0,IF(ROUNDUP((E14-D14)+1,0)>5,ROUNDUP((E14-D14)+1,0)-5,0)) -> 0 | L14: =IF('06-Mercancia Peligrosa(Sin DGD)'!C6="Export",R42,Q42) -> 31.19 | M14: =G14*K14*L14 -> 0 | N14: =IF(F14=0,0,IF(J14+M14<=C14,C14,J14+M14)) -> 68.62 | P14: Más de 5 días (€/100kg) | Q14: 38.83 | R14: 38.13
P16: Tarifas Animales Vivos
Q17: Import | R17: Export
P18: Tarifa (€/100kg / 24h) | Q18: 28.9 | R18: 28.37
P19: Mínimo (€) | Q19: 56.16 | R19: 55.14
P21: Tarifas Mercancías Especiales
Q22: Import | R22: Export
P23: Hasta 5 días (€/kg / día) | Q23: 1.17 | R23: 1.15
P24: Mínimo / AWB / día (€) | Q24: 79.41 | R24: 77.97
P25: Más de 5 días (€/kg / día) | Q25: 1.8 | R25: 1.76
P27: Tarifas Mercancías Vulnerables
Q28: Import | R28: Export
P29: Tarifa (€/kg / día) | Q29: 0.19 | R29: 0.19
P30: Mínimo / AWB / día (€) | Q30: 88.23 | R30: 86.63
P32: Tarifas DGR Con DGD
Q33: Import | R33: Export
P34: Hasta 5 días (€/100kg) | Q34: 20.66 | R34: 20.29
P35: Mínimo / expedición (€) | Q35: 95.19 | R35: 93.46
P36: Más de 5 días (€/100kg) | Q36: 36.93 | R36: 36.26
P38: Tarifas DGR Sin DGD
Q39: Import | R39: Export
P40: Hasta 5 días (€/100kg) | Q40: 15.25 | R40: 14.97
P41: Mínimo / expedición (€) | Q41: 69.88 | R41: 68.62
P42: Más de 5 días (€/100kg) | Q42: 31.77 | R42: 31.19

Sheet Indice
A1: #VALUE!
B4: Tarifa
B5: 01-Carga General | C5: Click Aquí
B6: 02-Camara Frigorifica | C6: Click Aquí
B7: 03-Animales Vivos | C7: Click Aquí
B8: 04-Mercancias Especiales | C8: Click Aquí
B9: 05-Mercanicas Vulnerables | C9: Click Aquí
B10: 06-Mercancias peligrosas (Con DGD) | C10: Click Aquí
B11: 06-Mercancias peligrosas (Sin DGD) | C11: Click Aquí
B14: Nota: La tarificación presentada se proporciona a título meramente referencial y carece de valor contractual (o fuerza vinculante)

Sheet 01-Carga General
A1: #VALUE!
C2: Importación y Exportación: Franquicia de 3 días naturales desde la fecha de notificación NOA (IMP) / /FOH (EXP). Para la mercancía con fecha de NOA (IMP) / /FOH (EXP) en viernes y salida en lunes, 4 días de franquicia. Si la mercancía no es retirada durante este marco de tiempo, se facturará desde el NOA (IMP) / /FOH (EXP), incluido. Para mercancía parcial, se tendrá en cuenta su correspondiente fecha de notificación NOA (IMP) / /FOH (EXP).
C3: Date | H3: Pueden consultar en nuestra página web todas las fechas de llegada y salida de sus mercancías (AWB Tracking).
B4: NOA/FOH | C4: 46044 | H4: WFS Tracking
B5: Delivery/Departed Day | C5: 46049
B6: Import/Export | C6: Export
B7: AWB | C7: 999-39921836
B8: Chargeable Weight | C8: 620
C10: Till day 7 | D10: Exceeding 7 days | E10: Amount
B11: General Cargo Storage | C11: ='Tabla Maestra'!J2 -> 546.84 | D11: ='Tabla Maestra'!M2 -> 0 | E11: ='Tabla Maestra'!N2 -> 546.84
B14: Nota: La tarificación presentada se proporciona a título meramente referencial y carece de valor contractual (o fuerza vinculante)

Sheet 02-Camara Frigorifica
A1: #VALUE!
C2: Importación y Exportación: Franquicia de 1 día natural desde la fecha de NOA (IMP) / FOH (EXP). Si la mercancía no es retirada durante este marco de tiempo, se facturará desde el NOA (IMP) / FOH (EXP), incluido. Para mercancía parcial, se tendrá en cuenta su correspondiente notificación NOA (IMP) / FOH (EXP) y por part-shipments.
C3: Date | H3: Pueden consultar en nuestra página web todas las fechas de llegada y salida de sus mercancías (AWB Tracking).
B4: NOA/FOH | C4: 46029 | H4: WFS Tracking
B5: Delivery/Departed Day | C5: 46031
B6: Import/Export | C6: Import
B7: AWB | C7: 157-65144181
B8: Chargeable Weight | C8: 13945
C10: Till day 5 | D10: Exceeding 5 days | E10: Amount
B11: Cool Room Storage | C11: ='Tabla Maestra'!J4 -> 10453.8 | D11: ='Tabla Maestra'!M4 -> 0 | E11: ='Tabla Maestra'!N4 -> 10453.8
B14: Nota: La tarificación presentada se proporciona a título meramente referencial y carece de valor contractual (o fuerza vinculante)

Sheet 03-Animales Vivos
A1: #VALUE!
C2: Importación y Exportación: Franquicia de 12 horas desde la fecha de NOA (IMP) / FOH (EXP). Si los amimales no son retirados durante este marco de tiempo, se facturará desde el NOA (IMP) / FOH (EXP), incluido.
C3: Date | D3: Time | H3: Pueden consultar en nuestra página web todas las fechas de llegada y salida de sus mercancías (AWB Tracking).
B4: NOA/FOH | C4: 46023 | D4: 0 | H4: WFS Tracking
B5: Delivery/Departed Day | C5: 46023 | D5: 0
B6: Import/Export | C6: Export
B7: AWB | C7: 111-11223344
B8: Chargeable Weight | C8: 100
C10: Storage | E10: Amount
B11: Animals Storage | C11: ='Tabla Maestra'!J6 -> 0 | E11: ='Tabla Maestra'!N6 -> 0
B14: Nota: La tarificación presentada se proporciona a título meramente referencial y carece de valor contractual (o fuerza vinculante)

Sheet 04-Mercancias Especiales
A1: #VALUE!
C2: Importación y Exportación: Almacenaje de mercancía valiosa, incluyendo almacenaje de armas, explosivos y almacenamiento especial de materia reglamentada en cumplimiento con el procedimiento PS-04.
C3: Date | H3: Pueden consultar en nuestra página web todas las fechas de llegada y salida de sus mercancías (AWB Tracking).
B4: NOA/FOH | C4: 46023 | H4: WFS Tracking
B5: Delivery/Departed Day | C5: 46023
B6: Import/Export | C6: Export
B7: AWB | C7: 111-11223344
B8: Chargeable Weight | C8: 1
C10: Till day 5 | D10: Exceeding 5 days | E10: Amount
B11: Special Storage | C11: ='Tabla Maestra'!J8 -> 72.19 | D11: ='Tabla Maestra'!M8 -> 0 | E11: ='Tabla Maestra'!N8 -> 72.19
B14: Nota: La tarificación presentada se proporciona a título meramente referencial y carece de valor contractual (o fuerza vinculante)

Sheet 05-Mercancias Vulnerables
A1: #VALUE!
C2: Importación y Exportación: Almacenaje de mercancía vulnerable
C3: Date | H3: Pueden consultar en nuestra página web todas las fechas de llegada y salida de sus mercancías (AWB Tracking).
B4: NOA/FOH | C4: 46023 | H4: WFS Tracking
B5: Delivery/Departed Day | C5: 46023
B6: Import/Export | C6: Export
B7: AWB | C7: 111-11223344
B8: Chargeable Weight | C8: 1
C10: Storage | E10: Amount
B11: Vulnerables Storage | C11: ='Tabla Maestra'!J10 -> 80.21 | E11: ='Tabla Maestra'!N10 -> 80.21
B14: Nota: La tarificación presentada se proporciona a título meramente referencial y carece de valor contractual (o fuerza vinculante)

Sheet 06-Mercancia Peligrosa(Con DGD)
A1: #VALUE!
C2: Importación y Exportación: Franquicia de 2 días naturales desde la fecha de NOA (IMP) / FOH (EXP). Si la mercancía no es retirada durante este marco de tiempo, se facturará desde el NOA (IMP) / FOH (EXP), incluido. Para mercancía parcial, se tendrá en cuenta su correspondiente fecha de notificación de NOA (IMP) / FOH (EXP) y por part-shipments.
C3: Date | H3: Pueden consultar en nuestra página web todas las fechas de llegada y salida de sus mercancías (AWB Tracking).
B4: NOA/FOH | C4: 46023 | H4: WFS Tracking
B5: Delivery/Departed Day | C5: 46023
B6: Import/Export | C6: Export
B7: AWB | C7: 111-11223344
B8: Chargeable Weight | C8: 100
C10: Till day 5 | D10: Exceeding 5 days | E10: Amount
B11: Dangerous Good Storage | C11: ='Tabla Maestra'!J12 -> 0 | D11: ='Tabla Maestra'!M12 -> 0 | E11: ='Tabla Maestra'!N12 -> 0
B14: Nota: La tarificación presentada se proporciona a título meramente referencial y carece de valor contractual (o fuerza vinculante)

Sheet 06-Mercancia Peligrosa(Sin DGD)
A1: #VALUE!
C2: Importación y Exportación: Franquicia de 2 días naturales desde la fecha de NOA (IMP) / FOH (EXP). Si la mercancía no es retirada durante este marco de tiempo, se facturará desde el NOA (IMP) / FOH (EXP), incluido. Para mercancía parcial, se tendrá en cuenta su correspondiente fecha de notificación de NOA (IMP) / FOH (EXP) y por part-shipments.
C3: Date | H3: Pueden consultar en nuestra página web todas las fechas de llegada y salida de sus mercancías (AWB Tracking).
B4: NOA/FOH | C4: 46023 | H4: WFS Tracking
B5: Delivery/Departed Day | C5: 46025
B6: Import/Export | C6: Export
B7: AWB | C7: 111-11223344
B8: Chargeable Weight | C8: 100
C10: Till day 5 | D10: Exceeding 5 days | E10: Amount
B11: Dangerous Good Storage | C11: ='Tabla Maestra'!J14 -> 44.91 | D11: ='Tabla Maestra'!M14 -> 0 | E11: ='Tabla Maestra'!N14 -> 68.62
B14: Nota: La tarificación presentada se proporciona a título meramente referencial y carece de valor contractual (o fuerza vinculante)
